BEGIN:VCALENDAR
PRODID:69e76c641943d
VERSION:2.0
METHOD:PUBLISH
BEGIN:VEVENT
DTSTART:20260601T230000
DTEND:20260601T230000
LOCATION:
TRANSP:OPAQUE
SEQUENCE:0
UID:69e76c641943d
DTSTAMP:20260421T122404Z
SUMMARY:Unicorn Day
DESCRIPTION:
PRIORITY:1
CLASS:PUBLIC
BEGIN:VALARM
TRIGGER:-PT10080M
ACTION:DISPLAY
DESCRIPTION:
END:VALARM
END:VEVENT
END:VCALENDAR
