BEGIN:VCALENDAR
PRODID:69e7505690b3a
VERSION:2.0
METHOD:PUBLISH
BEGIN:VEVENT
DTSTART:20260528T230000
DTEND:20260528T230000
LOCATION:
TRANSP:OPAQUE
SEQUENCE:0
UID:69e7505690b3a
DTSTAMP:20260421T102422Z
SUMMARY:IPCA
DESCRIPTION:
PRIORITY:1
CLASS:PUBLIC
BEGIN:VALARM
TRIGGER:-PT10080M
ACTION:DISPLAY
DESCRIPTION:
END:VALARM
END:VEVENT
END:VCALENDAR
